BEGIN:VCALENDAR
VERSION:2.0
PRODID:-//Lincolnshire ICB - ECPv6.15.20//NONSGML v1.0//EN
CALSCALE:GREGORIAN
METHOD:PUBLISH
X-ORIGINAL-URL:https://lincolnshire.icb.nhs.uk
X-WR-CALDESC:Events for Lincolnshire ICB
REFRESH-INTERVAL;VALUE=DURATION:PT1H
X-Robots-Tag:noindex
X-PUBLISHED-TTL:PT1H
BEGIN:VTIMEZONE
TZID:Europe/Paris
BEGIN:DAYLIGHT
TZOFFSETFROM:+0100
TZOFFSETTO:+0200
TZNAME:CEST
DTSTART:20220327T010000
END:DAYLIGHT
BEGIN:STANDARD
TZOFFSETFROM:+0200
TZOFFSETTO:+0100
TZNAME:CET
DTSTART:20221030T010000
END:STANDARD
BEGIN:DAYLIGHT
TZOFFSETFROM:+0100
TZOFFSETTO:+0200
TZNAME:CEST
DTSTART:20230326T010000
END:DAYLIGHT
BEGIN:STANDARD
TZOFFSETFROM:+0200
TZOFFSETTO:+0100
TZNAME:CET
DTSTART:20231029T010000
END:STANDARD
BEGIN:DAYLIGHT
TZOFFSETFROM:+0100
TZOFFSETTO:+0200
TZNAME:CEST
DTSTART:20240331T010000
END:DAYLIGHT
BEGIN:STANDARD
TZOFFSETFROM:+0200
TZOFFSETTO:+0100
TZNAME:CET
DTSTART:20241027T010000
END:STANDARD
END:VTIMEZONE
BEGIN:VEVENT
DTSTART;TZID=Europe/Paris:20230928T170000
DTEND;TZID=Europe/Paris:20230928T180000
DTSTAMP:20260422T015503
CREATED:20230724T141610Z
LAST-MODIFIED:20230824T155349Z
UID:16063-1695920400-1695924000@lincolnshire.icb.nhs.uk
SUMMARY:Annual Public Meeting 2023
DESCRIPTION:Please join us for our 2023 Annual Public Meeting\, where we will: \n\nDiscuss the work undertaken by NHS Lincolnshire ICB over the previous year and highlight key priorities for the future.\nPresent the previous NHS Lincolnshire CCG Annual Report and Accounts for Quarter 1 (1 April 2022 – 30 June 2022).\nPresent the NHS Lincolnshire ICB Annual Report and Accounts for Quarters 2 – 4 (1 July 2022 – 31 March 2023).\n\nClick here to join the meeting via Microsoft Teams \nMembers of the public are encouraged to join us online and submit questions prior to the meeting using the Questions Proforma. Once completed please submit the form electronically to Mrs Jules Ellis-Fenwick\, ICB Board Secretary and Head of Corporate Governance at julieellis1@nhs.net by no later than 5.00 pm on Wednesday\, 27th September 2023.  \nIn addition there will be the opportunity to ask questions during the meeting using the Questions and Answers facility. \nDownload meeting agenda and papers  (all agendas and papers will be published as soon as they are available ahead of the meeting)
URL:https://lincolnshire.icb.nhs.uk/event/annual-public-meeting/
LOCATION:Virtual meeting
CATEGORIES:Annual Public Meeting
ATTACH;FMTTYPE=image/png:https://lincolnshire.icb.nhs.uk/wp-content/uploads/2022/06/Lincolnshire-ICB_Teams-Background_1-e1692714440200.png
END:VEVENT
END:VCALENDAR